BEGIN:VCALENDAR
VERSION:2.0
PRODID:-//Toll Uncrewed Systems - ECPv6.15.20//NONSGML v1.0//EN
CALSCALE:GREGORIAN
METHOD:PUBLISH
X-WR-CALNAME:Toll Uncrewed Systems
X-ORIGINAL-URL:https://tolluncrewedsystems.com
X-WR-CALDESC:Events for Toll Uncrewed Systems
REFRESH-INTERVAL;VALUE=DURATION:PT1H
X-Robots-Tag:noindex
X-PUBLISHED-TTL:PT1H
BEGIN:VTIMEZONE
TZID:Australia/Melbourne
BEGIN:STANDARD
TZOFFSETFROM:+1100
TZOFFSETTO:+1000
TZNAME:AEST
DTSTART:20250405T160000
END:STANDARD
BEGIN:DAYLIGHT
TZOFFSETFROM:+1000
TZOFFSETTO:+1100
TZNAME:AEDT
DTSTART:20251004T160000
END:DAYLIGHT
BEGIN:STANDARD
TZOFFSETFROM:+1100
TZOFFSETTO:+1000
TZNAME:AEST
DTSTART:20260404T160000
END:STANDARD
BEGIN:DAYLIGHT
TZOFFSETFROM:+1000
TZOFFSETTO:+1100
TZNAME:AEDT
DTSTART:20261003T160000
END:DAYLIGHT
BEGIN:STANDARD
TZOFFSETFROM:+1100
TZOFFSETTO:+1000
TZNAME:AEST
DTSTART:20270403T160000
END:STANDARD
BEGIN:DAYLIGHT
TZOFFSETFROM:+1000
TZOFFSETTO:+1100
TZNAME:AEDT
DTSTART:20271002T160000
END:DAYLIGHT
END:VTIMEZONE
BEGIN:VEVENT
DTSTART;TZID=Australia/Melbourne:20260511T080000
DTEND;TZID=Australia/Melbourne:20260515T160000
DTSTAMP:20260421T013711
CREATED:20260217T220436Z
LAST-MODIFIED:20260217T220436Z
UID:6540-1778486400-1778860800@tolluncrewedsystems.com
SUMMARY:Spaces available. Book Now →
DESCRIPTION:CASA Initial UAV Licensing – RePL\n  \nFill in your details below to start your enrolment\n\n\n                \n                        CommentsThis field is for validation purposes and should be left unchanged.Name(Required)\n                            \n                            \n                                                    \n                                                    First name\n                                                \n                            \n                            \n                                                    \n                                                    Last name\n                                                \n                            \n                        Email(Required)\n                            \n                        Phone(Required)Course Enquiry(Required)
URL:https://tolluncrewedsystems.com/event/repl-mon-13-april-brisbane-2/
CATEGORIES:RePL Brisbane
END:VEVENT
BEGIN:VEVENT
DTSTART;TZID=Australia/Melbourne:20260512T080000
DTEND;TZID=Australia/Melbourne:20260513T160000
DTSTAMP:20260421T013711
CREATED:20260217T220544Z
LAST-MODIFIED:20260217T220544Z
UID:6541-1778572800-1778688000@tolluncrewedsystems.com
SUMMARY:Spaces available. Book Now →
DESCRIPTION:CASA Pilot Conversion\n  \nHave a Question? Send us a Message Below:\n\n                \n                        CompanyThis field is for validation purposes and should be left unchanged.Name(Required)\n                            \n                            \n                                                    \n                                                    First name\n                                                \n                            \n                            \n                                                    \n                                                    Last name\n                                                \n                            \n                        Email(Required)\n                            \n                        Phone(Required)Course Enquiry(Required)
URL:https://tolluncrewedsystems.com/event/conversion-tue-12-may-brisbane/
CATEGORIES:RepL Conversion Brisbane
END:VEVENT
BEGIN:VEVENT
DTSTART;TZID=Australia/Melbourne:20260514T170000
DTEND;TZID=Australia/Melbourne:20260514T203000
DTSTAMP:20260421T013711
CREATED:20260218T034306Z
LAST-MODIFIED:20260218T034306Z
UID:6543-1778778000-1778790600@tolluncrewedsystems.com
SUMMARY:Spaces Available. Book now →
DESCRIPTION:CASA Aeronautical Radio Operator Certificate and Aviation English Language Proficiency\n  \nFill in your details below to start your enrolment\n\n                \n                        PhoneThis field is for validation purposes and should be left unchanged.Name(Required)\n                            \n                            \n                                                    \n                                                    First name\n                                                \n                            \n                            \n                                                    \n                                                    Last name\n                                                \n                            \n                        Email(Required)\n                            \n                        Phone(Required)Course Enquiry(Required)
URL:https://tolluncrewedsystems.com/event/aroc-thu-14-may-brisbane/
CATEGORIES:AROC Brisbane
END:VEVENT
BEGIN:VEVENT
DTSTART;TZID=Australia/Melbourne:20260516T080000
DTEND;TZID=Australia/Melbourne:20260516T160000
DTSTAMP:20260421T013711
CREATED:20260318T213456Z
LAST-MODIFIED:20260318T213456Z
UID:6554-1778918400-1778947200@tolluncrewedsystems.com
SUMMARY:Spaces Available. Book Now →
DESCRIPTION:Sub 25kg Multirotor Licensing (RePL Sub 25kg)\n  \nFill in your details below to start your enrolment\n\n                \n                        PhoneThis field is for validation purposes and should be left unchanged.Name(Required)\n                            \n                            \n                                                    \n                                                    First name\n                                                \n                            \n                            \n                                                    \n                                                    Last name\n                                                \n                            \n                        Email(Required)\n                            \n                        Phone(Required)Course Enquiry(Required)
URL:https://tolluncrewedsystems.com/event/multirotor-saturday-16-may-brisbane/
CATEGORIES:Sub 25kg Multirotor Brisbane
END:VEVENT
BEGIN:VEVENT
DTSTART;TZID=Australia/Melbourne:20260523T083000
DTEND;TZID=Australia/Melbourne:20260523T160000
DTSTAMP:20260421T013711
CREATED:20260317T230204Z
LAST-MODIFIED:20260317T230503Z
UID:6550-1779525000-1779552000@tolluncrewedsystems.com
SUMMARY:Spaces available. Call to book →
DESCRIPTION:Introduction to Drones\n  \nHave a Question? Send us a Message Below:\n\n                \n                        LinkedInThis field is for validation purposes and should be left unchanged.Name(Required)\n                            \n                            \n                                                    \n                                                    First name\n                                                \n                            \n                            \n                                                    \n                                                    Last name\n                                                \n                            \n                        Email(Required)\n                            \n                        Phone(Required)Course Enquiry(Required)
URL:https://tolluncrewedsystems.com/event/introduction-to-drones-sat-24-may-brisbane/
CATEGORIES:Introduction to Drones Brisbane
ATTACH;FMTTYPE=image/jpeg:https://tolluncrewedsystems.com/wp-content/uploads/2024/02/intro-drone-3.jpg
END:VEVENT
END:VCALENDAR