BEGIN:VCALENDAR
VERSION:2.0
PRODID:-//Toll Uncrewed Systems - ECPv6.15.20//NONSGML v1.0//EN
CALSCALE:GREGORIAN
METHOD:PUBLISH
X-WR-CALNAME:Toll Uncrewed Systems
X-ORIGINAL-URL:https://tolluncrewedsystems.com
X-WR-CALDESC:Events for Toll Uncrewed Systems
REFRESH-INTERVAL;VALUE=DURATION:PT1H
X-Robots-Tag:noindex
X-PUBLISHED-TTL:PT1H
BEGIN:VTIMEZONE
TZID:Australia/Melbourne
BEGIN:STANDARD
TZOFFSETFROM:+1100
TZOFFSETTO:+1000
TZNAME:AEST
DTSTART:20250405T160000
END:STANDARD
BEGIN:DAYLIGHT
TZOFFSETFROM:+1000
TZOFFSETTO:+1100
TZNAME:AEDT
DTSTART:20251004T160000
END:DAYLIGHT
BEGIN:STANDARD
TZOFFSETFROM:+1100
TZOFFSETTO:+1000
TZNAME:AEST
DTSTART:20260404T160000
END:STANDARD
BEGIN:DAYLIGHT
TZOFFSETFROM:+1000
TZOFFSETTO:+1100
TZNAME:AEDT
DTSTART:20261003T160000
END:DAYLIGHT
BEGIN:STANDARD
TZOFFSETFROM:+1100
TZOFFSETTO:+1000
TZNAME:AEST
DTSTART:20270403T160000
END:STANDARD
BEGIN:DAYLIGHT
TZOFFSETFROM:+1000
TZOFFSETTO:+1100
TZNAME:AEDT
DTSTART:20271002T160000
END:DAYLIGHT
END:VTIMEZONE
BEGIN:VEVENT
DTSTART;TZID=Australia/Melbourne:20260601T080000
DTEND;TZID=Australia/Melbourne:20260605T160000
DTSTAMP:20260421T032115
CREATED:20260318T212611Z
LAST-MODIFIED:20260318T212611Z
UID:6551-1780300800-1780675200@tolluncrewedsystems.com
SUMMARY:Spaces available. Book Now →
DESCRIPTION:CASA Initial UAV Licensing – RePL\n  \nFill in your details below to start your enrolment\n\n\n                \n                        LinkedInThis field is for validation purposes and should be left unchanged.Name(Required)\n                            \n                            \n                                                    \n                                                    First name\n                                                \n                            \n                            \n                                                    \n                                                    Last name\n                                                \n                            \n                        Email(Required)\n                            \n                        Phone(Required)Course Enquiry(Required)
URL:https://tolluncrewedsystems.com/event/repl-mon-01-june-brisbane/
CATEGORIES:RePL Brisbane
END:VEVENT
BEGIN:VEVENT
DTSTART;TZID=Australia/Melbourne:20260602T080000
DTEND;TZID=Australia/Melbourne:20260603T160000
DTSTAMP:20260421T032115
CREATED:20260318T214349Z
LAST-MODIFIED:20260318T214349Z
UID:6564-1780387200-1780502400@tolluncrewedsystems.com
SUMMARY:Spaces available. Book Now →
DESCRIPTION:CASA Pilot Conversion\n  \nHave a Question? Send us a Message Below:\n\n                \n                        CompanyThis field is for validation purposes and should be left unchanged.Name(Required)\n                            \n                            \n                                                    \n                                                    First name\n                                                \n                            \n                            \n                                                    \n                                                    Last name\n                                                \n                            \n                        Email(Required)\n                            \n                        Phone(Required)Course Enquiry(Required)
URL:https://tolluncrewedsystems.com/event/conversion-tue-2-june-brisbane/
CATEGORIES:RepL Conversion Brisbane
END:VEVENT
BEGIN:VEVENT
DTSTART;TZID=Australia/Melbourne:20260604T170000
DTEND;TZID=Australia/Melbourne:20260604T203000
DTSTAMP:20260421T032115
CREATED:20260318T213811Z
LAST-MODIFIED:20260318T213811Z
UID:6558-1780592400-1780605000@tolluncrewedsystems.com
SUMMARY:Spaces Available. Book now →
DESCRIPTION:CASA Aeronautical Radio Operator Certificate and Aviation English Language Proficiency\n  \nFill in your details below to start your enrolment\n\n                \n                        FacebookThis field is for validation purposes and should be left unchanged.Name(Required)\n                            \n                            \n                                                    \n                                                    First name\n                                                \n                            \n                            \n                                                    \n                                                    Last name\n                                                \n                            \n                        Email(Required)\n                            \n                        Phone(Required)Course Enquiry(Required)
URL:https://tolluncrewedsystems.com/event/aroc-thu-4-june-brisbane/
CATEGORIES:AROC Brisbane
END:VEVENT
BEGIN:VEVENT
DTSTART;TZID=Australia/Melbourne:20260606T080000
DTEND;TZID=Australia/Melbourne:20260606T160000
DTSTAMP:20260421T032115
CREATED:20260318T213541Z
LAST-MODIFIED:20260318T213541Z
UID:6555-1780732800-1780761600@tolluncrewedsystems.com
SUMMARY:Spaces Available. Book Now →
DESCRIPTION:Sub 25kg Multirotor Licensing (RePL Sub 25kg)\n  \nFill in your details below to start your enrolment\n\n                \n                        URLThis field is for validation purposes and should be left unchanged.Name(Required)\n                            \n                            \n                                                    \n                                                    First name\n                                                \n                            \n                            \n                                                    \n                                                    Last name\n                                                \n                            \n                        Email(Required)\n                            \n                        Phone(Required)Course Enquiry(Required)
URL:https://tolluncrewedsystems.com/event/multirotor-saturday-6-june-brisbane/
CATEGORIES:Sub 25kg Multirotor Brisbane
END:VEVENT
BEGIN:VEVENT
DTSTART;TZID=Australia/Melbourne:20260613T083000
DTEND;TZID=Australia/Melbourne:20260613T160000
DTSTAMP:20260421T032115
CREATED:20260323T035907Z
LAST-MODIFIED:20260323T035907Z
UID:6595-1781339400-1781366400@tolluncrewedsystems.com
SUMMARY:Spaces available. Call to book →
DESCRIPTION:Introduction to Drones\n  \nHave a Question? Send us a Message Below:\n\n                \n                        EmailThis field is for validation purposes and should be left unchanged.Name(Required)\n                            \n                            \n                                                    \n                                                    First name\n                                                \n                            \n                            \n                                                    \n                                                    Last name\n                                                \n                            \n                        Email(Required)\n                            \n                        Phone(Required)Course Enquiry(Required)
URL:https://tolluncrewedsystems.com/event/introduction-to-drones-sat-13-june-brisbane/
CATEGORIES:Introduction to Drones Brisbane
ATTACH;FMTTYPE=image/jpeg:https://tolluncrewedsystems.com/wp-content/uploads/2024/02/intro-drone-3.jpg
END:VEVENT
BEGIN:VEVENT
DTSTART;TZID=Australia/Melbourne:20260622T080000
DTEND;TZID=Australia/Melbourne:20260626T160000
DTSTAMP:20260421T032115
CREATED:20260318T212655Z
LAST-MODIFIED:20260318T212655Z
UID:6552-1782115200-1782489600@tolluncrewedsystems.com
SUMMARY:Spaces available. Book Now →
DESCRIPTION:CASA Initial UAV Licensing – RePL\n  \nFill in your details below to start your enrolment\n\n                \n                        LinkedInThis field is for validation purposes and should be left unchanged.Name(Required)\n                            \n                            \n                                                    \n                                                    First name\n                                                \n                            \n                            \n                                                    \n                                                    Last name\n                                                \n                            \n                        Email(Required)\n                            \n                        Phone(Required)Course Enquiry(Required)
URL:https://tolluncrewedsystems.com/event/repl-mon-22-jun-brisbane/
CATEGORIES:RePL Brisbane
END:VEVENT
BEGIN:VEVENT
DTSTART;TZID=Australia/Melbourne:20260623T080000
DTEND;TZID=Australia/Melbourne:20260624T160000
DTSTAMP:20260421T032115
CREATED:20260318T214425Z
LAST-MODIFIED:20260318T214425Z
UID:6565-1782201600-1782316800@tolluncrewedsystems.com
SUMMARY:Spaces available. Book Now →
DESCRIPTION:CASA Pilot Conversion\n  \nHave a Question? Send us a Message Below:\n\n                \n                        CommentsThis field is for validation purposes and should be left unchanged.Name(Required)\n                            \n                            \n                                                    \n                                                    First name\n                                                \n                            \n                            \n                                                    \n                                                    Last name\n                                                \n                            \n                        Email(Required)\n                            \n                        Phone(Required)Course Enquiry(Required)
URL:https://tolluncrewedsystems.com/event/conversion-tue-23-june-brisbane/
CATEGORIES:RepL Conversion Brisbane
END:VEVENT
BEGIN:VEVENT
DTSTART;TZID=Australia/Melbourne:20260625T170000
DTEND;TZID=Australia/Melbourne:20260625T203000
DTSTAMP:20260421T032115
CREATED:20260318T213846Z
LAST-MODIFIED:20260318T213846Z
UID:6559-1782406800-1782419400@tolluncrewedsystems.com
SUMMARY:Spaces Available. Book now →
DESCRIPTION:CASA Aeronautical Radio Operator Certificate and Aviation English Language Proficiency\n  \nFill in your details below to start your enrolment\n\n                \n                        FacebookThis field is for validation purposes and should be left unchanged.Name(Required)\n                            \n                            \n                                                    \n                                                    First name\n                                                \n                            \n                            \n                                                    \n                                                    Last name\n                                                \n                            \n                        Email(Required)\n                            \n                        Phone(Required)Course Enquiry(Required)
URL:https://tolluncrewedsystems.com/event/aroc-thu-25-june-brisbane/
CATEGORIES:AROC Brisbane
END:VEVENT
BEGIN:VEVENT
DTSTART;TZID=Australia/Melbourne:20260627T080000
DTEND;TZID=Australia/Melbourne:20260627T160000
DTSTAMP:20260421T032115
CREATED:20260318T213619Z
LAST-MODIFIED:20260318T213716Z
UID:6556-1782547200-1782576000@tolluncrewedsystems.com
SUMMARY:Spaces Available. Book Now →
DESCRIPTION:Sub 25kg Multirotor Licensing (RePL Sub 25kg)\n  \nFill in your details below to start your enrolment\n\n                \n                        InstagramThis field is for validation purposes and should be left unchanged.Name(Required)\n                            \n                            \n                                                    \n                                                    First name\n                                                \n                            \n                            \n                                                    \n                                                    Last name\n                                                \n                            \n                        Email(Required)\n                            \n                        Phone(Required)Course Enquiry(Required)
URL:https://tolluncrewedsystems.com/event/multirotor-saturday-27-june-brisbane/
CATEGORIES:Sub 25kg Multirotor Brisbane
END:VEVENT
END:VCALENDAR