BEGIN:VCALENDAR
VERSION:2.0
PRODID:-//Toll Uncrewed Systems - ECPv6.15.20//NONSGML v1.0//EN
CALSCALE:GREGORIAN
METHOD:PUBLISH
X-WR-CALNAME:Toll Uncrewed Systems
X-ORIGINAL-URL:https://tolluncrewedsystems.com
X-WR-CALDESC:Events for Toll Uncrewed Systems
REFRESH-INTERVAL;VALUE=DURATION:PT1H
X-Robots-Tag:noindex
X-PUBLISHED-TTL:PT1H
BEGIN:VTIMEZONE
TZID:Australia/Melbourne
BEGIN:STANDARD
TZOFFSETFROM:+1100
TZOFFSETTO:+1000
TZNAME:AEST
DTSTART:20250405T160000
END:STANDARD
BEGIN:DAYLIGHT
TZOFFSETFROM:+1000
TZOFFSETTO:+1100
TZNAME:AEDT
DTSTART:20251004T160000
END:DAYLIGHT
BEGIN:STANDARD
TZOFFSETFROM:+1100
TZOFFSETTO:+1000
TZNAME:AEST
DTSTART:20260404T160000
END:STANDARD
BEGIN:DAYLIGHT
TZOFFSETFROM:+1000
TZOFFSETTO:+1100
TZNAME:AEDT
DTSTART:20261003T160000
END:DAYLIGHT
BEGIN:STANDARD
TZOFFSETFROM:+1100
TZOFFSETTO:+1000
TZNAME:AEST
DTSTART:20270403T160000
END:STANDARD
BEGIN:DAYLIGHT
TZOFFSETFROM:+1000
TZOFFSETTO:+1100
TZNAME:AEDT
DTSTART:20271002T160000
END:DAYLIGHT
END:VTIMEZONE
BEGIN:VEVENT
DTSTART;TZID=Australia/Melbourne:20260713T080000
DTEND;TZID=Australia/Melbourne:20260717T160000
DTSTAMP:20260422T195728
CREATED:20260318T212929Z
LAST-MODIFIED:20260318T212929Z
UID:6553-1783929600-1784304000@tolluncrewedsystems.com
SUMMARY:Spaces available. Book Now →
DESCRIPTION:CASA Initial UAV Licensing – RePL\n  \nFill in your details below to start your enrolment\n\n\n                \n                        NameThis field is for validation purposes and should be left unchanged.Name(Required)\n                            \n                            \n                                                    \n                                                    First name\n                                                \n                            \n                            \n                                                    \n                                                    Last name\n                                                \n                            \n                        Email(Required)\n                            \n                        Phone(Required)Course Enquiry(Required)
URL:https://tolluncrewedsystems.com/event/repl-mon-13-jul-brisbane/
CATEGORIES:RePL Brisbane
END:VEVENT
BEGIN:VEVENT
DTSTART;TZID=Australia/Melbourne:20260714T080000
DTEND;TZID=Australia/Melbourne:20260715T160000
DTSTAMP:20260422T195728
CREATED:20260318T214500Z
LAST-MODIFIED:20260318T214500Z
UID:6566-1784016000-1784131200@tolluncrewedsystems.com
SUMMARY:Spaces available. Book Now →
DESCRIPTION:CASA Pilot Conversion\n  \nHave a Question? Send us a Message Below:\n\n                \n                        NameThis field is for validation purposes and should be left unchanged.Name(Required)\n                            \n                            \n                                                    \n                                                    First name\n                                                \n                            \n                            \n                                                    \n                                                    Last name\n                                                \n                            \n                        Email(Required)\n                            \n                        Phone(Required)Course Enquiry(Required)
URL:https://tolluncrewedsystems.com/event/conversion-tue-14-july-brisbane/
CATEGORIES:RepL Conversion Brisbane
END:VEVENT
BEGIN:VEVENT
DTSTART;TZID=Australia/Melbourne:20260716T170000
DTEND;TZID=Australia/Melbourne:20260716T203000
DTSTAMP:20260422T195728
CREATED:20260318T213920Z
LAST-MODIFIED:20260318T213920Z
UID:6560-1784221200-1784233800@tolluncrewedsystems.com
SUMMARY:Spaces Available. Book now →
DESCRIPTION:CASA Aeronautical Radio Operator Certificate and Aviation English Language Proficiency\n  \nFill in your details below to start your enrolment\n\n                \n                        CompanyThis field is for validation purposes and should be left unchanged.Name(Required)\n                            \n                            \n                                                    \n                                                    First name\n                                                \n                            \n                            \n                                                    \n                                                    Last name\n                                                \n                            \n                        Email(Required)\n                            \n                        Phone(Required)Course Enquiry(Required)
URL:https://tolluncrewedsystems.com/event/aroc-thu-16-july-brisbane/
CATEGORIES:AROC Brisbane
END:VEVENT
BEGIN:VEVENT
DTSTART;TZID=Australia/Melbourne:20260718T080000
DTEND;TZID=Australia/Melbourne:20260718T160000
DTSTAMP:20260422T195728
CREATED:20260318T213658Z
LAST-MODIFIED:20260318T213658Z
UID:6557-1784361600-1784390400@tolluncrewedsystems.com
SUMMARY:Spaces Available. Book Now →
DESCRIPTION:Sub 25kg Multirotor Licensing (RePL Sub 25kg)\n  \nFill in your details below to start your enrolment\n\n                \n                        EmailThis field is for validation purposes and should be left unchanged.Name(Required)\n                            \n                            \n                                                    \n                                                    First name\n                                                \n                            \n                            \n                                                    \n                                                    Last name\n                                                \n                            \n                        Email(Required)\n                            \n                        Phone(Required)Course Enquiry(Required)
URL:https://tolluncrewedsystems.com/event/multirotor-saturday-18-july-brisbane/
CATEGORIES:Sub 25kg Multirotor Brisbane
END:VEVENT
BEGIN:VEVENT
DTSTART;TZID=Australia/Melbourne:20260725T083000
DTEND;TZID=Australia/Melbourne:20260725T160000
DTSTAMP:20260422T195728
CREATED:20260323T035944Z
LAST-MODIFIED:20260323T035944Z
UID:6596-1784968200-1784995200@tolluncrewedsystems.com
SUMMARY:Spaces available. Call to book →
DESCRIPTION:Introduction to Drones\n  \nHave a Question? Send us a Message Below:\n\n                \n                        NameThis field is for validation purposes and should be left unchanged.Name(Required)\n                            \n                            \n                                                    \n                                                    First name\n                                                \n                            \n                            \n                                                    \n                                                    Last name\n                                                \n                            \n                        Email(Required)\n                            \n                        Phone(Required)Course Enquiry(Required)
URL:https://tolluncrewedsystems.com/event/introduction-to-drones-sat-25-july-brisbane/
CATEGORIES:Introduction to Drones Brisbane
ATTACH;FMTTYPE=image/jpeg:https://tolluncrewedsystems.com/wp-content/uploads/2024/02/intro-drone-3.jpg
END:VEVENT
END:VCALENDAR